BEGIN:VCALENDAR
VERSION:2.0
METHOD:PUBLISH
X-WR-CALNAME;VALUE=TEXT:Agenda #5282
PRODID:-//Drupal iCal API//EN
BEGIN:VEVENT
SUMMARY: Bédarieux : Présentation des métiers Transport Logistique aux collégiens
DTSTART: 20230127T070000
DTEND: 20230127T070000
DESCRIPTION: Afin de découvrir puis explorer plusieurs métiers pour construire leur projet d'orientation vers la voie professionnelle ou par l'apprentissage, l'AFT présentera aux élèves de 4eme et 3eme du Lycée Ferdinand Fabre de Bédarieux 34, le secteur du transport et de la logistique le vendredi 27 janvier prochain de 8h à 12h.
END:VEVENT
BEGIN:VEVENT
SUMMARY: Bédarieux : Présentation des métiers Transport Logistique aux collégiens
DTSTART: 20230127T070000
DTEND: 20230127T070000
DESCRIPTION: Afin de découvrir puis explorer plusieurs métiers pour construire leur projet d'orientation vers la voie professionnelle ou par l'apprentissage, l'AFT présentera aux élèves de 4eme et 3eme du Lycée Ferdinand Fabre de Bédarieux 34, le secteur du transport et de la logistique le vendredi 27 janvier prochain de 8h à 12h.
END:VEVENT
BEGIN:VEVENT
SUMMARY: Bédarieux : Présentation des métiers Transport Logistique aux collégiens
DTSTART: 20230127T070000
DTEND: 20230127T070000
DESCRIPTION: Afin de découvrir puis explorer plusieurs métiers pour construire leur projet d'orientation vers la voie professionnelle ou par l'apprentissage, l'AFT présentera aux élèves de 4eme et 3eme du Lycée Ferdinand Fabre de Bédarieux 34, le secteur du transport et de la logistique le vendredi 27 janvier prochain de 8h à 12h.
END:VEVENT
END:VCALENDAR
