BEGIN:VCALENDAR
VERSION:2.0
METHOD:PUBLISH
X-WR-CALNAME;VALUE=TEXT:Agenda #5284
PRODID:-//Drupal iCal API//EN
BEGIN:VEVENT
SUMMARY: Montpellier : Présentation des métiers du Transport
DTSTART: 20230126T083000
DTEND: 20230126T083000
DESCRIPTION: Venez découvrir les métiers du transport marchandises et voyageurs le Jeudi 26 janvier prochain de 9h30 à 12h30 et de 14h à 16h30&nbsp;
L'AFT Occitanie, présentera les&nbsp;métiers et les filières de formation.

Témoignages et discussions avec des conducteurs et conductrices de poids lourds.

Découverte des métiers en testant les casques de réalité virtuelle.

Immersion grandeur nature en montant à bord des véhicules&nbsp;!

Stand Pôle Emploi pour vous éclairer sur votre validation de projet.

Inscription obligatoire auprès de la Maison de l'Orientation de Montpellier&nbsp;
END:VEVENT
BEGIN:VEVENT
SUMMARY: Montpellier : Présentation des métiers du Transport
DTSTART: 20230126T083000
DTEND: 20230126T083000
DESCRIPTION: Venez découvrir les métiers du transport marchandises et voyageurs le Jeudi 26 janvier prochain de 9h30 à 12h30 et de 14h à 16h30&nbsp;
L'AFT Occitanie, présentera les&nbsp;métiers et les filières de formation.

Témoignages et discussions avec des conducteurs et conductrices de poids lourds.

Découverte des métiers en testant les casques de réalité virtuelle.

Immersion grandeur nature en montant à bord des véhicules&nbsp;!

Stand Pôle Emploi pour vous éclairer sur votre validation de projet.

Inscription obligatoire auprès de la Maison de l'Orientation de Montpellier&nbsp;
END:VEVENT
BEGIN:VEVENT
SUMMARY: Montpellier : Présentation des métiers du Transport
DTSTART: 20230126T083000
DTEND: 20230126T083000
DESCRIPTION: Venez découvrir les métiers du transport marchandises et voyageurs le Jeudi 26 janvier prochain de 9h30 à 12h30 et de 14h à 16h30&nbsp;
L'AFT Occitanie, présentera les&nbsp;métiers et les filières de formation.

Témoignages et discussions avec des conducteurs et conductrices de poids lourds.

Découverte des métiers en testant les casques de réalité virtuelle.

Immersion grandeur nature en montant à bord des véhicules&nbsp;!

Stand Pôle Emploi pour vous éclairer sur votre validation de projet.

Inscription obligatoire auprès de la Maison de l'Orientation de Montpellier&nbsp;
END:VEVENT
END:VCALENDAR
