BEGIN:VCALENDAR
VERSION:2.0
METHOD:PUBLISH
X-WR-CALNAME;VALUE=TEXT:Agenda #5287
PRODID:-//Drupal iCal API//EN
BEGIN:VEVENT
SUMMARY: Forum d'orientation et des métiers de Blois 2023
DTSTART: 20230120T080000
DTEND: 20230121T153000
DESCRIPTION: Un rendez-vous incontournable dans le&nbsp;Loir-et-Cher pour construire son parcours avenir ou projet professionnel.

Salle du Jeu de Paume à Blois les 20 et 21 Janvier 2023.
END:VEVENT
END:VCALENDAR
