BEGIN:VCALENDAR
VERSION:2.0
METHOD:PUBLISH
X-WR-CALNAME;VALUE=TEXT:Agenda #530
PRODID:-//Drupal iCal API//EN
BEGIN:VEVENT
SUMMARY: LIMOGES - mission locale de l'agglomération
DTSTART: 20171129T130000
DTEND: 20171129T180000
DESCRIPTION: Réunion d'information collective dans les locaux de la Mission Locale de LIMOGES (18 rue Aigueperse - derrière Saint Martial) le MERCREDI 29 NOVEMBRE 2017 à 14 h 00
END:VEVENT
BEGIN:VEVENT
SUMMARY: LIMOGES - mission locale de l'agglomération
DTSTART: 20171129T130000
DTEND: 20171129T180000
DESCRIPTION: Réunion d'information collective dans les locaux de la Mission Locale de LIMOGES (18 rue Aigueperse - derrière Saint Martial) le MERCREDI 29 NOVEMBRE 2017 à 14 h 00
END:VEVENT
BEGIN:VEVENT
SUMMARY: LIMOGES - mission locale de l'agglomération
DTSTART: 20171129T130000
DTEND: 20171129T180000
DESCRIPTION: Réunion d'information collective dans les locaux de la Mission Locale de LIMOGES (18 rue Aigueperse - derrière Saint Martial) le MERCREDI 29 NOVEMBRE 2017 à 14 h 00
END:VEVENT
END:VCALENDAR
