BEGIN:VCALENDAR
VERSION:2.0
METHOD:PUBLISH
X-WR-CALNAME;VALUE=TEXT:Agenda #531
PRODID:-//Drupal iCal API//EN
BEGIN:VEVENT
SUMMARY: Brive : cité des métiers
DTSTART: 20171214T080000
DTEND: 20171214T180000
DESCRIPTION: Information collective le JEUDI 14 DECEMBRE 2017 à 9 h 00 - Cité des Métiers - rue Marie-Rose Guillot (derrière la mairie) à BRIVE
END:VEVENT
BEGIN:VEVENT
SUMMARY: Brive : cité des métiers
DTSTART: 20171214T080000
DTEND: 20171214T180000
DESCRIPTION: Information collective le JEUDI 14 DECEMBRE 2017 à 9 h 00 - Cité des Métiers - rue Marie-Rose Guillot (derrière la mairie) à BRIVE
END:VEVENT
BEGIN:VEVENT
SUMMARY: Brive : cité des métiers
DTSTART: 20171214T080000
DTEND: 20171214T180000
DESCRIPTION: Information collective le JEUDI 14 DECEMBRE 2017 à 9 h 00 - Cité des Métiers - rue Marie-Rose Guillot (derrière la mairie) à BRIVE
END:VEVENT
END:VCALENDAR
