BEGIN:VCALENDAR
VERSION:2.0
METHOD:PUBLISH
X-WR-CALNAME;VALUE=TEXT:Agenda #532
PRODID:-//Drupal iCal API//EN
BEGIN:VEVENT
SUMMARY: Limoges : Cité des métiers
DTSTART: 20171212T130000
DTEND: 20171212T180000
DESCRIPTION: Information collective le MARDI 12 DECEMBRE 2017 à 14 h 00 (cité des Métiers de Limoges - 13 cours Jourdan LIMOGES - tél. 05.55.10.00.37)
END:VEVENT
BEGIN:VEVENT
SUMMARY: Limoges : Cité des métiers
DTSTART: 20171212T130000
DTEND: 20171212T180000
DESCRIPTION: Information collective le MARDI 12 DECEMBRE 2017 à 14 h 00 (cité des Métiers de Limoges - 13 cours Jourdan LIMOGES - tél. 05.55.10.00.37)
END:VEVENT
BEGIN:VEVENT
SUMMARY: Limoges : Cité des métiers
DTSTART: 20171212T130000
DTEND: 20171212T180000
DESCRIPTION: Information collective le MARDI 12 DECEMBRE 2017 à 14 h 00 (cité des Métiers de Limoges - 13 cours Jourdan LIMOGES - tél. 05.55.10.00.37)
END:VEVENT
END:VCALENDAR
