BEGIN:VCALENDAR
VERSION:2.0
METHOD:PUBLISH
X-WR-CALNAME;VALUE=TEXT:Agenda #533
PRODID:-//Drupal iCal API//EN
BEGIN:VEVENT
SUMMARY: Aubusson : Cité des métiers
DTSTART: 20171201T130000
DTEND: 20171201T190000
DESCRIPTION: Information collective le VENDREDI 1ER DECEMBRE 2017 à 14 H 00- Centre Associé de la Cité des Métiers - MEFAA "La Passerelle" - Esplanade Charles de Gaulle - 23 AUBUSSON
END:VEVENT
BEGIN:VEVENT
SUMMARY: Aubusson : Cité des métiers
DTSTART: 20171201T130000
DTEND: 20171201T190000
DESCRIPTION: Information collective le VENDREDI 1ER DECEMBRE 2017 à 14 H 00- Centre Associé de la Cité des Métiers - MEFAA "La Passerelle" - Esplanade Charles de Gaulle - 23 AUBUSSON
END:VEVENT
BEGIN:VEVENT
SUMMARY: Aubusson : Cité des métiers
DTSTART: 20171201T130000
DTEND: 20171201T190000
DESCRIPTION: Information collective le VENDREDI 1ER DECEMBRE 2017 à 14 H 00- Centre Associé de la Cité des Métiers - MEFAA "La Passerelle" - Esplanade Charles de Gaulle - 23 AUBUSSON
END:VEVENT
END:VCALENDAR
