BEGIN:VCALENDAR
VERSION:2.0
METHOD:PUBLISH
X-WR-CALNAME;VALUE=TEXT:Agenda #534
PRODID:-//Drupal iCal API//EN
BEGIN:VEVENT
SUMMARY: La souterraine : Cité des métiers
DTSTART: 20170515T070000
DTEND: 20170515T170000
DESCRIPTION: Information collective le Lundi 15 MAI 2017 à 9 h 00 - Centre Associé de la Cité des Métiers - Place Joachim du Chalard - 23 LA SOUTERRAINE
END:VEVENT
BEGIN:VEVENT
SUMMARY: La souterraine : Cité des métiers
DTSTART: 20170515T070000
DTEND: 20170515T170000
DESCRIPTION: Information collective le Lundi 15 MAI 2017 à 9 h 00 - Centre Associé de la Cité des Métiers - Place Joachim du Chalard - 23 LA SOUTERRAINE
END:VEVENT
BEGIN:VEVENT
SUMMARY: La souterraine : Cité des métiers
DTSTART: 20170515T070000
DTEND: 20170515T170000
DESCRIPTION: Information collective le Lundi 15 MAI 2017 à 9 h 00 - Centre Associé de la Cité des Métiers - Place Joachim du Chalard - 23 LA SOUTERRAINE
END:VEVENT
END:VCALENDAR
