BEGIN:VCALENDAR
VERSION:2.0
METHOD:PUBLISH
X-WR-CALNAME;VALUE=TEXT:Agenda #5346
PRODID:-//Drupal iCal API//EN
BEGIN:VEVENT
SUMMARY: Agde : Détection potentiel de candidats aux métiers du Transport Logistique au Pôle Emploi
DTSTART: 20230207T080000
DTEND: 20230207T080000
DESCRIPTION: Présentation des métiers Transport Logistique aux demandeurs d'emploi, le Mardi 7 février de 9h à 12h au Pôle Emploi d'Agde.

Inscription obligatoire auprès de son conseiller Pôle Emploi&nbsp;
END:VEVENT
BEGIN:VEVENT
SUMMARY: Agde : Détection potentiel de candidats aux métiers du Transport Logistique au Pôle Emploi
DTSTART: 20230207T080000
DTEND: 20230207T080000
DESCRIPTION: Présentation des métiers Transport Logistique aux demandeurs d'emploi, le Mardi 7 février de 9h à 12h au Pôle Emploi d'Agde.

Inscription obligatoire auprès de son conseiller Pôle Emploi&nbsp;
END:VEVENT
BEGIN:VEVENT
SUMMARY: Agde : Détection potentiel de candidats aux métiers du Transport Logistique au Pôle Emploi
DTSTART: 20230207T080000
DTEND: 20230207T080000
DESCRIPTION: Présentation des métiers Transport Logistique aux demandeurs d'emploi, le Mardi 7 février de 9h à 12h au Pôle Emploi d'Agde.

Inscription obligatoire auprès de son conseiller Pôle Emploi&nbsp;
END:VEVENT
END:VCALENDAR
