BEGIN:VCALENDAR
VERSION:2.0
METHOD:PUBLISH
X-WR-CALNAME;VALUE=TEXT:Agenda #5349
PRODID:-//Drupal iCal API//EN
BEGIN:VEVENT
SUMMARY: Forum de l'orientation et de l'alternance le mardi 14 Février à Villeparisis
DTSTART: 20230214T090000
DTEND: 20230214T160000
DESCRIPTION: Venez rencontrer et échanger avec les acteurs locaux de la formation et de l'orientation dans ce Forum de l'orientation et de l'alternance destiné aux 16-26 ans !

La Délégation AFT Ile-de-France sera présente au Forum de l’orientation et de l’alternance organisé par la ville de Villeparisis&nbsp;le mardi 14 février 2023 de 10h00 à 17h00 pour présenter les métiers du secteur et de la logistique.

&nbsp;

&nbsp;
END:VEVENT
END:VCALENDAR
