BEGIN:VCALENDAR
VERSION:2.0
METHOD:PUBLISH
X-WR-CALNAME;VALUE=TEXT:Agenda #535
PRODID:-//Drupal iCal API//EN
BEGIN:VEVENT
SUMMARY: Forum post 3ème Brive
DTSTART: 20170202T080000
DTEND: 20170203T180000
DESCRIPTION: L'AFT vous accueillera sur son stand du FORUM DES METIERS qui aura lieu les : JEUDI 2 ET VENDREDI 3 FEVRIER 2017 à l'Espace des 3 Provinces - 19100 BRIVE
END:VEVENT
BEGIN:VEVENT
SUMMARY: Forum post 3ème Brive
DTSTART: 20170202T080000
DTEND: 20170203T180000
DESCRIPTION: L'AFT vous accueillera sur son stand du FORUM DES METIERS qui aura lieu les : JEUDI 2 ET VENDREDI 3 FEVRIER 2017 à l'Espace des 3 Provinces - 19100 BRIVE
END:VEVENT
BEGIN:VEVENT
SUMMARY: Forum post 3ème Brive
DTSTART: 20170202T080000
DTEND: 20170203T180000
DESCRIPTION: L'AFT vous accueillera sur son stand du FORUM DES METIERS qui aura lieu les : JEUDI 2 ET VENDREDI 3 FEVRIER 2017 à l'Espace des 3 Provinces - 19100 BRIVE
END:VEVENT
END:VCALENDAR
