BEGIN:VCALENDAR
VERSION:2.0
METHOD:PUBLISH
X-WR-CALNAME;VALUE=TEXT:Agenda #536
PRODID:-//Drupal iCal API//EN
BEGIN:VEVENT
SUMMARY: Forum des métiers du Haut Limousin
DTSTART: 20170214T080000
DTEND: 20170214T160000
DESCRIPTION: L'AFT vous accueille sur son stand au FORUM NORD HAUTE VIENNE qui aura lieu le MARDI 14 FEVRIER 2017 de 9 h 00 à 17 h 00 au THEATRE DU CLOITRE A BELLAC (87)
END:VEVENT
BEGIN:VEVENT
SUMMARY: Forum des métiers du Haut Limousin
DTSTART: 20170214T080000
DTEND: 20170214T160000
DESCRIPTION: L'AFT vous accueille sur son stand au FORUM NORD HAUTE VIENNE qui aura lieu le MARDI 14 FEVRIER 2017 de 9 h 00 à 17 h 00 au THEATRE DU CLOITRE A BELLAC (87)
END:VEVENT
BEGIN:VEVENT
SUMMARY: Forum des métiers du Haut Limousin
DTSTART: 20170214T080000
DTEND: 20170214T160000
DESCRIPTION: L'AFT vous accueille sur son stand au FORUM NORD HAUTE VIENNE qui aura lieu le MARDI 14 FEVRIER 2017 de 9 h 00 à 17 h 00 au THEATRE DU CLOITRE A BELLAC (87)
END:VEVENT
END:VCALENDAR
