BEGIN:VCALENDAR
VERSION:2.0
METHOD:PUBLISH
X-WR-CALNAME;VALUE=TEXT:Agenda #537
PRODID:-//Drupal iCal API//EN
BEGIN:VEVENT
SUMMARY: Carrefour carrières - Cité Darnet à Saint Yrieix la Perche
DTSTART: 20170207T083000
DTEND: 20170207T160000
DESCRIPTION: L'AFT vous accueille sur son stand le MARDI 7 FEVRIER 2017 de 9 h 30 a 17 h 00 A la Cité Scolaire Jean-Baptiste DARNET de SAINT YRIEIX LA PERCHE (87)
END:VEVENT
BEGIN:VEVENT
SUMMARY: Carrefour carrières - Cité Darnet à Saint Yrieix la Perche
DTSTART: 20170207T083000
DTEND: 20170207T160000
DESCRIPTION: L'AFT vous accueille sur son stand le MARDI 7 FEVRIER 2017 de 9 h 30 a 17 h 00 A la Cité Scolaire Jean-Baptiste DARNET de SAINT YRIEIX LA PERCHE (87)
END:VEVENT
BEGIN:VEVENT
SUMMARY: Carrefour carrières - Cité Darnet à Saint Yrieix la Perche
DTSTART: 20170207T083000
DTEND: 20170207T160000
DESCRIPTION: L'AFT vous accueille sur son stand le MARDI 7 FEVRIER 2017 de 9 h 30 a 17 h 00 A la Cité Scolaire Jean-Baptiste DARNET de SAINT YRIEIX LA PERCHE (87)
END:VEVENT
END:VCALENDAR
