BEGIN:VCALENDAR
VERSION:2.0
METHOD:PUBLISH
X-WR-CALNAME;VALUE=TEXT:Agenda #5434
PRODID:-//Drupal iCal API//EN
BEGIN:VEVENT
SUMMARY: Vic en Bigorre : Présentation des métiers du transport et de la logistique au Lycée Pierre Mendes France
DTSTART: 20240209T130000
DTEND: 20240209T130000
DESCRIPTION: A la demande du Lycée Pierre Mendes France de Vic en Bigorre, l'AFT Occitanie présentera les métiers du transport et de la logistique le Vendredi 9 février&nbsp;prochain de 14h à 17h lors du Forum que le lycée organise.&nbsp;
END:VEVENT
BEGIN:VEVENT
SUMMARY: Vic en Bigorre : Présentation des métiers du transport et de la logistique au Lycée Pierre Mendes France
DTSTART: 20240209T130000
DTEND: 20240209T130000
DESCRIPTION: A la demande du Lycée Pierre Mendes France de Vic en Bigorre, l'AFT Occitanie présentera les métiers du transport et de la logistique le Vendredi 9 février&nbsp;prochain de 14h à 17h lors du Forum que le lycée organise.&nbsp;
END:VEVENT
BEGIN:VEVENT
SUMMARY: Vic en Bigorre : Présentation des métiers du transport et de la logistique au Lycée Pierre Mendes France
DTSTART: 20240209T130000
DTEND: 20240209T130000
DESCRIPTION: A la demande du Lycée Pierre Mendes France de Vic en Bigorre, l'AFT Occitanie présentera les métiers du transport et de la logistique le Vendredi 9 février&nbsp;prochain de 14h à 17h lors du Forum que le lycée organise.&nbsp;
END:VEVENT
END:VCALENDAR
