BEGIN:VCALENDAR
VERSION:2.0
METHOD:PUBLISH
X-WR-CALNAME;VALUE=TEXT:Agenda #567
PRODID:-//Drupal iCal API//EN
BEGIN:VEVENT
SUMMARY: Infos métiers à la cité des métiers
DTSTART: 20170222T080000
DTEND: 20170419T170000
DESCRIPTION: Nous animons régulièrement des réunions d'informations sur les activités, les métiers et les filières de formation du transport et de la logistique.
END:VEVENT
BEGIN:VEVENT
SUMMARY: Infos métiers à la cité des métiers
DTSTART: 20170222T080000
DTEND: 20170419T170000
DESCRIPTION: Nous animons régulièrement des réunions d'informations sur les activités, les métiers et les filières de formation du transport et de la logistique.
END:VEVENT
BEGIN:VEVENT
SUMMARY: Infos métiers à la cité des métiers
DTSTART: 20170222T080000
DTEND: 20170419T170000
DESCRIPTION: Nous animons régulièrement des réunions d'informations sur les activités, les métiers et les filières de formation du transport et de la logistique.
END:VEVENT
BEGIN:VEVENT
SUMMARY: Infos métiers à la cité des métiers
DTSTART: 20170222T080000
DTEND: 20170419T170000
DESCRIPTION: Nous animons régulièrement des réunions d'informations sur les activités, les métiers et les filières de formation du transport et de la logistique.
END:VEVENT
END:VCALENDAR
