BEGIN:VCALENDAR
VERSION:2.0
METHOD:PUBLISH
X-WR-CALNAME;VALUE=TEXT:Agenda #5675
PRODID:-//Drupal iCal API//EN
BEGIN:VEVENT
SUMMARY: Le 7 juin, webinaire portant sur l'emploi des personnes en situation de handicap.
DTSTART: 20230607T073000
DTEND: 20230607T083000
DESCRIPTION: Dans le cadre de la semaine Transport Logistique Pôle du 5 au 9 juin, l'AFT Transport Logistique Normandie interviendra en format webinaire au côté de l'AGEFIPH sur l'emploi (et le maintien dans l'emploi) des personnes en situation de handicap.
END:VEVENT
BEGIN:VEVENT
SUMMARY: Le 7 juin, webinaire portant sur l'emploi des personnes en situation de handicap.
DTSTART: 20230607T073000
DTEND: 20230607T083000
DESCRIPTION: Dans le cadre de la semaine Transport Logistique Pôle du 5 au 9 juin, l'AFT Transport Logistique Normandie interviendra en format webinaire au côté de l'AGEFIPH sur l'emploi (et le maintien dans l'emploi) des personnes en situation de handicap.
END:VEVENT
END:VCALENDAR
