BEGIN:VCALENDAR
VERSION:2.0
METHOD:PUBLISH
X-WR-CALNAME;VALUE=TEXT:Agenda #5677
PRODID:-//Drupal iCal API//EN
BEGIN:VEVENT
SUMMARY: L'AFT Transport &amp; Logistique sera au Pôle Emploi d'Aulnay-sous-bois le 6 juin 2023
DTSTART: 20230606T073000
DTEND: 20230606T093000
DESCRIPTION: Dans le cadre de la semaine nationale des métiers du transport et de la logistique portée par Pôle Emploi du 5 au 9 juin, la délégation régionale Ile-de-France de l'AFT interviendra sur l'agence Pôle Emploi d' Aulnay-sous-bois.&nbsp;
END:VEVENT
END:VCALENDAR
