BEGIN:VCALENDAR
VERSION:2.0
METHOD:PUBLISH
X-WR-CALNAME;VALUE=TEXT:Agenda #5679
PRODID:-//Drupal iCal API//EN
BEGIN:VEVENT
SUMMARY: Jeudi 25 mai : VIABUS ouvre ses portes !
DTSTART: 20230525T080000
DTEND: 20230525T100000
DESCRIPTION: Jeudi 25 mai, VIABUS, opérateur de cars&nbsp;spécialisé dans le grand tourisme, mixte et scolaire, ouvre les portes de son site situé à Poincy.
END:VEVENT
END:VCALENDAR
