BEGIN:VCALENDAR
VERSION:2.0
METHOD:PUBLISH
X-WR-CALNAME;VALUE=TEXT:Agenda #5682
PRODID:-//Drupal iCal API//EN
BEGIN:VEVENT
SUMMARY: Agence Pôle Emploi de Pontault Combault - Info collective Transport &amp; Logistique
DTSTART: 20230607T120000
DTEND: 20230607T140000
DESCRIPTION: Dans le cadre de la semaine nationale des métiers du transport et de la logistique portée par&nbsp;Pôle Emploi&nbsp;du 5 au 9 juin, la délégation régionale Ile-de-France de l'AFT interviendra sur l'agence Pôle Emploi de Pontault Combault.&nbsp;
END:VEVENT
END:VCALENDAR
