BEGIN:VCALENDAR
VERSION:2.0
METHOD:PUBLISH
X-WR-CALNAME;VALUE=TEXT:Agenda #5684
PRODID:-//Drupal iCal API//EN
BEGIN:VEVENT
SUMMARY: Job Dating multi entreprises le 09 juin sur Sainte Luce (44) !
DTSTART: 20230609T120000
DTEND: 20230609T120000
DESCRIPTION: Venez à la rencontre de plusieurs entreprises de transport routier de marchandises et logistique regroupées le même jour sur le même lieu !

Dans le cadre de la semaine nationale de l'emploi Transport Logistique organisée par POLE EMPLOI, l'AFT Transport et Logistique des Pays de la Loire met en place un job dating multi entreprise le vendredi 09 juin 14h-18h) sur Sainte Luce sur Loire (44).

&nbsp;
END:VEVENT
BEGIN:VEVENT
SUMMARY: Job Dating multi entreprises le 09 juin sur Sainte Luce (44) !
DTSTART: 20230609T120000
DTEND: 20230609T120000
DESCRIPTION: Venez à la rencontre de plusieurs entreprises de transport routier de marchandises et logistique regroupées le même jour sur le même lieu !

Dans le cadre de la semaine nationale de l'emploi Transport Logistique organisée par POLE EMPLOI, l'AFT Transport et Logistique des Pays de la Loire met en place un job dating multi entreprise le vendredi 09 juin 14h-18h) sur Sainte Luce sur Loire (44).

&nbsp;
END:VEVENT
END:VCALENDAR
