BEGIN:VCALENDAR
VERSION:2.0
METHOD:PUBLISH
X-WR-CALNAME;VALUE=TEXT:Agenda #5688
PRODID:-//Drupal iCal API//EN
BEGIN:VEVENT
SUMMARY: Focus métiers Exploitation Transport en région centre-val de loire
DTSTART: 20230620T140000
DTEND: 20230620T150000
DESCRIPTION: Vous recherchez des informations sur le secteur&nbsp;de la logistique&nbsp;?

Félicitations c'est un secteur qui recrute !

Découvrez les métiers de l'Exploitation Transport en participant à notre conférence en ligne !
END:VEVENT
BEGIN:VEVENT
SUMMARY: Focus métiers Exploitation Transport en région centre-val de loire
DTSTART: 20230620T140000
DTEND: 20230620T150000
DESCRIPTION: Vous recherchez des informations sur le secteur&nbsp;de la logistique&nbsp;?

Félicitations c'est un secteur qui recrute !

Découvrez les métiers de l'Exploitation Transport en participant à notre conférence en ligne !
END:VEVENT
END:VCALENDAR
