BEGIN:VCALENDAR
VERSION:2.0
METHOD:PUBLISH
X-WR-CALNAME;VALUE=TEXT:Agenda #5690
PRODID:-//Drupal iCal API//EN
BEGIN:VEVENT
SUMMARY: Focus métiers de la Logistique en région centre-val de loire
DTSTART: 20230829T130000
DTEND: 20230829T140000
DESCRIPTION: Vous recherchez des informations sur le secteur&nbsp;de la logistique&nbsp;?

Félicitations c'est un secteur qui recrute !

Découvrez les métiers de la Logistique&nbsp;en participant à notre conférence en ligne !
END:VEVENT
BEGIN:VEVENT
SUMMARY: Focus métiers de la Logistique en région centre-val de loire
DTSTART: 20230829T130000
DTEND: 20230829T140000
DESCRIPTION: Vous recherchez des informations sur le secteur&nbsp;de la logistique&nbsp;?

Félicitations c'est un secteur qui recrute !

Découvrez les métiers de la Logistique&nbsp;en participant à notre conférence en ligne !
END:VEVENT
END:VCALENDAR
