BEGIN:VCALENDAR
VERSION:2.0
METHOD:PUBLISH
X-WR-CALNAME;VALUE=TEXT:Agenda #5691
PRODID:-//Drupal iCal API//EN
BEGIN:VEVENT
SUMMARY: Réunion du Club prévention Centre-Val de Loire
DTSTART: 20230615T090000
DTEND: 20230615T103000
DESCRIPTION: Un Club Prévention dans les Transports et la Logistique pour échanger sur les questions de santé et sécurité au travail&nbsp;entre entreprises, avec les acteurs de la branche et ceux&nbsp;de la santé et sécurité au travail.

Au programme, les démarches de prévention sur les différents&nbsp;types de risques professionnels : troubles musculo-squelettiques (TMS), chutes, risques routiers, etc.

Le 15 juin, le Club Prévention Centre-Val de Loire portera sur les conduites addictives.
END:VEVENT
END:VCALENDAR
