BEGIN:VCALENDAR
VERSION:2.0
METHOD:PUBLISH
X-WR-CALNAME;VALUE=TEXT:Agenda #5695
PRODID:-//Drupal iCal API//EN
BEGIN:VEVENT
SUMMARY: En route vers le Transport et la Logistique au Pole Emploi de TULLE
DTSTART: 20230605T074500
DTEND: 20230605T103000
DESCRIPTION: Dans le cadre de la semaine Transport Logistique de Pôle Emploi qui se déroulera&nbsp;du 5 au 9 juin de , l'AFT Transport Logistique Limousin interviendra sur l'agence Pôle Emploi de Tulle le Lundi 5&nbsp;juin 9h45 à 12h30.&nbsp;
END:VEVENT
END:VCALENDAR
