BEGIN:VCALENDAR
VERSION:2.0
METHOD:PUBLISH
X-WR-CALNAME;VALUE=TEXT:Agenda #5697
PRODID:-//Drupal iCal API//EN
BEGIN:VEVENT
SUMMARY: Choisissez votre voie dans le transport et la logistique
DTSTART: 20230609T113000
DTEND: 20230609T150000
DESCRIPTION: Dans le cadre de la semaine du Transport de la Logistique de Pole Emploi qui se déroulera du Lundi 05 Juin au Vendredi 09 Juin,

Rendez-vous le Vendredi 09 Juin de 13h30 à 17h00
END:VEVENT
END:VCALENDAR
