BEGIN:VCALENDAR
VERSION:2.0
METHOD:PUBLISH
X-WR-CALNAME;VALUE=TEXT:Agenda #5700
PRODID:-//Drupal iCal API//EN
BEGIN:VEVENT
SUMMARY: Découverte des métiers du Transport et de la Logistique à Trévoux (01)
DTSTART: 20230605T080000
DTEND: 20230605T100000
DESCRIPTION: Dans le cadre de la semaine nationale des métiers du transport et de la logistique, l'agence Pôle Emploi de Trévoux (01) propose une matinée de découverte des métiers de cette filière, en collaboration avec l'AFT Transport &amp; Logistique AURA.
END:VEVENT
END:VCALENDAR
