BEGIN:VCALENDAR
VERSION:2.0
METHOD:PUBLISH
X-WR-CALNAME;VALUE=TEXT:Agenda #5721
PRODID:-//Drupal iCal API//EN
BEGIN:VEVENT
SUMMARY: En route vers le transport ! visite entreprise XPO
DTSTART: 20230605T123000
DTEND: 20230605T123000
DESCRIPTION: Dans le cadre de la semaine du Transport et de la Logistique, le Pole Emploi de Tulle organise une visite du Site XPO à USSAC, proche de Brive. le Lundi 5 Juin à 14h30.&nbsp;
END:VEVENT
END:VCALENDAR
