BEGIN:VCALENDAR
VERSION:2.0
METHOD:PUBLISH
X-WR-CALNAME;VALUE=TEXT:Agenda #5723
PRODID:-//Drupal iCal API//EN
BEGIN:VEVENT
SUMMARY: Jeudi 08 Juin : Keolis Argenteuil-Boucles de Seine ouvre ses portes !
DTSTART: 20230608T120000
DTEND: 20230608T140000
DESCRIPTION: Dans le cadre de la semaine nationale des métiers du transport et le logistique et lancée à l'initiative de la&nbsp;FNTV&nbsp;,en partenariat avec&nbsp;Pôle Emploi,&nbsp;AFT Ile-de-France,&nbsp;de nombreux&nbsp;demandeurs d'emploi pourront assister&nbsp;aux divers ateliers prévus :


	Présentation de l'entreprise&nbsp;Keolis
	Echange avec les collaborateurs (conducteur, responsable d'exploitation,...),
	Job dating,&nbsp;
	Animation autour des métiers et de la prévention avec l'&nbsp;AFT Ile-de-France.
END:VEVENT
END:VCALENDAR
