BEGIN:VCALENDAR
VERSION:2.0
METHOD:PUBLISH
X-WR-CALNAME;VALUE=TEXT:Agenda #5758
PRODID:-//Drupal iCal API//EN
BEGIN:VEVENT
SUMMARY: Béziers : Présentation des métiers du transport de voyageurs aux demandeurs d'emploi
DTSTART: 20240206T090000
DTEND: 20240206T090000
DESCRIPTION: L'AFT Occitanie présentera les métiers du transport de voyageurs aux demandeurs d'emploi&nbsp; le Mardi 6 février prochain à la Maison de Région de Béziers.&nbsp;

Inscription obligatoire auprès de son conseiller Pôle emploi&nbsp;
END:VEVENT
BEGIN:VEVENT
SUMMARY: Béziers : Présentation des métiers du transport de voyageurs aux demandeurs d'emploi
DTSTART: 20240206T090000
DTEND: 20240206T090000
DESCRIPTION: L'AFT Occitanie présentera les métiers du transport de voyageurs aux demandeurs d'emploi&nbsp; le Mardi 6 février prochain à la Maison de Région de Béziers.&nbsp;

Inscription obligatoire auprès de son conseiller Pôle emploi&nbsp;
END:VEVENT
BEGIN:VEVENT
SUMMARY: Béziers : Présentation des métiers du transport de voyageurs aux demandeurs d'emploi
DTSTART: 20240206T090000
DTEND: 20240206T090000
DESCRIPTION: L'AFT Occitanie présentera les métiers du transport de voyageurs aux demandeurs d'emploi&nbsp; le Mardi 6 février prochain à la Maison de Région de Béziers.&nbsp;

Inscription obligatoire auprès de son conseiller Pôle emploi&nbsp;
END:VEVENT
END:VCALENDAR
