BEGIN:VCALENDAR
VERSION:2.0
METHOD:PUBLISH
X-WR-CALNAME;VALUE=TEXT:Agenda #5773
PRODID:-//Drupal iCal API//EN
BEGIN:VEVENT
SUMMARY: Bagnols : Venez découvrir les métiers du transport et de la logistique
DTSTART: 20250423T120000
DTEND: 20250423T120000
DESCRIPTION: L'AFT Occitanie présentera en collaboration avec&nbsp;&nbsp;FRANCE TRAVAIL,&nbsp;&nbsp;les métiers du transport et de la logistique&nbsp;&nbsp;le Mercredi 23 avril&nbsp;prochain de 14h à 16h dans les locaux de France Travail de&nbsp;Bagnols.&nbsp;

&nbsp;

&nbsp;

Inscription obligatoire auprès de son conseiller Pôle emploi.
END:VEVENT
BEGIN:VEVENT
SUMMARY: Bagnols : Venez découvrir les métiers du transport et de la logistique
DTSTART: 20250423T120000
DTEND: 20250423T120000
DESCRIPTION: L'AFT Occitanie présentera en collaboration avec&nbsp;&nbsp;FRANCE TRAVAIL,&nbsp;&nbsp;les métiers du transport et de la logistique&nbsp;&nbsp;le Mercredi 23 avril&nbsp;prochain de 14h à 16h dans les locaux de France Travail de&nbsp;Bagnols.&nbsp;

&nbsp;

&nbsp;

Inscription obligatoire auprès de son conseiller Pôle emploi.
END:VEVENT
BEGIN:VEVENT
SUMMARY: Bagnols : Venez découvrir les métiers du transport et de la logistique
DTSTART: 20250423T120000
DTEND: 20250423T120000
DESCRIPTION: L'AFT Occitanie présentera en collaboration avec&nbsp;&nbsp;FRANCE TRAVAIL,&nbsp;&nbsp;les métiers du transport et de la logistique&nbsp;&nbsp;le Mercredi 23 avril&nbsp;prochain de 14h à 16h dans les locaux de France Travail de&nbsp;Bagnols.&nbsp;

&nbsp;

&nbsp;

Inscription obligatoire auprès de son conseiller Pôle emploi.
END:VEVENT
END:VCALENDAR
