BEGIN:VCALENDAR
VERSION:2.0
METHOD:PUBLISH
X-WR-CALNAME;VALUE=TEXT:Agenda #5780
PRODID:-//Drupal iCal API//EN
BEGIN:VEVENT
SUMMARY: Occitanie : La semaine du transport et de la logistique à destination des conseillers
DTSTART: 20230608T120000
DTEND: 20230608T120000
DESCRIPTION: L'AFT Occitanie en partenariat avec Pôle emploi, FNTR et FNTV organisent le Jeudi 8 juin prochain de 14h à 15h30 un webinaire à destination des conseillers Pôle emploi sur le secteur Transport Logistique.&nbsp;

Vous êtes un conseiller et vous êtes intéressés, rapprochez vous de votre responsable.

&nbsp;

&nbsp;
END:VEVENT
BEGIN:VEVENT
SUMMARY: Occitanie : La semaine du transport et de la logistique à destination des conseillers
DTSTART: 20230608T120000
DTEND: 20230608T120000
DESCRIPTION: L'AFT Occitanie en partenariat avec Pôle emploi, FNTR et FNTV organisent le Jeudi 8 juin prochain de 14h à 15h30 un webinaire à destination des conseillers Pôle emploi sur le secteur Transport Logistique.&nbsp;

Vous êtes un conseiller et vous êtes intéressés, rapprochez vous de votre responsable.

&nbsp;

&nbsp;
END:VEVENT
END:VCALENDAR
