BEGIN:VCALENDAR
VERSION:2.0
METHOD:PUBLISH
X-WR-CALNAME;VALUE=TEXT:Agenda #5781
PRODID:-//Drupal iCal API//EN
BEGIN:VEVENT
SUMMARY: Découvrez le secteur du Transport et de la Logistique à Bressuire
DTSTART: 20230609T073000
DTEND: 20230609T100000
DESCRIPTION: Dans le cadre de la semaine nationale des métiers du transport et de la logistique, l'agence Pôle Emploi de Bressuire (79) propose une&nbsp;découverte du secteur&nbsp;en collaboration avec l'AFT.&nbsp;

&nbsp;
END:VEVENT
BEGIN:VEVENT
SUMMARY: Découvrez le secteur du Transport et de la Logistique à Bressuire
DTSTART: 20230609T073000
DTEND: 20230609T100000
DESCRIPTION: Dans le cadre de la semaine nationale des métiers du transport et de la logistique, l'agence Pôle Emploi de Bressuire (79) propose une&nbsp;découverte du secteur&nbsp;en collaboration avec l'AFT.&nbsp;

&nbsp;
END:VEVENT
BEGIN:VEVENT
SUMMARY: Découvrez le secteur du Transport et de la Logistique à Bressuire
DTSTART: 20230609T073000
DTEND: 20230609T100000
DESCRIPTION: Dans le cadre de la semaine nationale des métiers du transport et de la logistique, l'agence Pôle Emploi de Bressuire (79) propose une&nbsp;découverte du secteur&nbsp;en collaboration avec l'AFT.&nbsp;

&nbsp;
END:VEVENT
END:VCALENDAR
