BEGIN:VCALENDAR
VERSION:2.0
METHOD:PUBLISH
X-WR-CALNAME;VALUE=TEXT:Agenda #5782
PRODID:-//Drupal iCal API//EN
BEGIN:VEVENT
SUMMARY: Midi-Pyrénées : Remise des trophées "Ambassadeurs de l'emploi du Transport et de la Logistique
DTSTART: 20230609T120000
DTEND: 20230609T120000
DESCRIPTION: L'AFT Transport &amp; Logistique de Toulouse&nbsp;remettra Vendredi 9 juin prochain à 14h dans ses&nbsp;locaux, les chartes d'engagement et les trophées des "ambassadeurs de l'emploi du transport et de la logistique" aux entreprises suivantes :&nbsp;

XPO LOGISTICS (31)

BERTO MIDI-PYRENEES (31)

STEF TRANSPORT TOULOUSE (31)

STEF TRANSPORT TARBES (31)

&nbsp;

&nbsp;
END:VEVENT
BEGIN:VEVENT
SUMMARY: Midi-Pyrénées : Remise des trophées "Ambassadeurs de l'emploi du Transport et de la Logistique
DTSTART: 20230609T120000
DTEND: 20230609T120000
DESCRIPTION: L'AFT Transport &amp; Logistique de Toulouse&nbsp;remettra Vendredi 9 juin prochain à 14h dans ses&nbsp;locaux, les chartes d'engagement et les trophées des "ambassadeurs de l'emploi du transport et de la logistique" aux entreprises suivantes :&nbsp;

XPO LOGISTICS (31)

BERTO MIDI-PYRENEES (31)

STEF TRANSPORT TOULOUSE (31)

STEF TRANSPORT TARBES (31)

&nbsp;

&nbsp;
END:VEVENT
END:VCALENDAR
