BEGIN:VCALENDAR
VERSION:2.0
METHOD:PUBLISH
X-WR-CALNAME;VALUE=TEXT:Agenda #5783
PRODID:-//Drupal iCal API//EN
BEGIN:VEVENT
SUMMARY: Découvrez le secteur du Transport et de la Logistique à Civray
DTSTART: 20230613T080000
DTEND: 20230613T093000
DESCRIPTION: Dans le cadre de la semaine nationale des métiers du transport et de la logistique, l'agence Pôle Emploi de Civray (86), propose une&nbsp;découverte du secteur&nbsp;en collaboration avec l'AFT.&nbsp;
END:VEVENT
END:VCALENDAR
