BEGIN:VCALENDAR
VERSION:2.0
METHOD:PUBLISH
X-WR-CALNAME;VALUE=TEXT:Agenda #5784
PRODID:-//Drupal iCal API//EN
BEGIN:VEVENT
SUMMARY: Découvrez les métiers de la conduite à Montmorillon
DTSTART: 20230613T120000
DTEND: 20230613T133000
DESCRIPTION: Dans le cadre de la semaine nationale des métiers du transport, l'agence Pôle Emploi de Montmorillon&nbsp;(86) propose une&nbsp;découverte du secteur&nbsp;en collaboration avec l'AFT.&nbsp;
END:VEVENT
END:VCALENDAR
