BEGIN:VCALENDAR
VERSION:2.0
METHOD:PUBLISH
X-WR-CALNAME;VALUE=TEXT:Agenda #5789
PRODID:-//Drupal iCal API//EN
BEGIN:VEVENT
SUMMARY: Lunel : Présentation des métiers Transport Logistique au Pôle Emploi
DTSTART: 20231219T080000
DTEND: 20231219T080000
DESCRIPTION: L'AFT Occitanie présentera les métiers du Transport et de la Logistique le mardi 19&nbsp;décembre&nbsp;prochain de 9h à 10h au Pôle emploi de Lunel (34)

Inscription obligatoire auprès de son conseiller Pôle Emploi&nbsp;
END:VEVENT
BEGIN:VEVENT
SUMMARY: Lunel : Présentation des métiers Transport Logistique au Pôle Emploi
DTSTART: 20231219T080000
DTEND: 20231219T080000
DESCRIPTION: L'AFT Occitanie présentera les métiers du Transport et de la Logistique le mardi 19&nbsp;décembre&nbsp;prochain de 9h à 10h au Pôle emploi de Lunel (34)

Inscription obligatoire auprès de son conseiller Pôle Emploi&nbsp;
END:VEVENT
BEGIN:VEVENT
SUMMARY: Lunel : Présentation des métiers Transport Logistique au Pôle Emploi
DTSTART: 20231219T080000
DTEND: 20231219T080000
DESCRIPTION: L'AFT Occitanie présentera les métiers du Transport et de la Logistique le mardi 19&nbsp;décembre&nbsp;prochain de 9h à 10h au Pôle emploi de Lunel (34)

Inscription obligatoire auprès de son conseiller Pôle Emploi&nbsp;
END:VEVENT
END:VCALENDAR
