BEGIN:VCALENDAR
VERSION:2.0
METHOD:PUBLISH
X-WR-CALNAME;VALUE=TEXT:Agenda #5790
PRODID:-//Drupal iCal API//EN
BEGIN:VEVENT
SUMMARY: MGE ouvre ses portes le 9 juin 2023 à Chavelot
DTSTART: 20230609T063000
DTEND: 20230609T100000
DESCRIPTION: Dans le cadre de la semaine du Transport et de la Logistique, venez découvrir les métiers et les formations du secteur et rencontrer des professionnels.
END:VEVENT
BEGIN:VEVENT
SUMMARY: MGE ouvre ses portes le 9 juin 2023 à Chavelot
DTSTART: 20230609T063000
DTEND: 20230609T100000
DESCRIPTION: Dans le cadre de la semaine du Transport et de la Logistique, venez découvrir les métiers et les formations du secteur et rencontrer des professionnels.
END:VEVENT
BEGIN:VEVENT
SUMMARY: MGE ouvre ses portes le 9 juin 2023 à Chavelot
DTSTART: 20230609T063000
DTEND: 20230609T100000
DESCRIPTION: Dans le cadre de la semaine du Transport et de la Logistique, venez découvrir les métiers et les formations du secteur et rencontrer des professionnels.
END:VEVENT
BEGIN:VEVENT
SUMMARY: MGE ouvre ses portes le 9 juin 2023 à Chavelot
DTSTART: 20230609T063000
DTEND: 20230609T100000
DESCRIPTION: Dans le cadre de la semaine du Transport et de la Logistique, venez découvrir les métiers et les formations du secteur et rencontrer des professionnels.
END:VEVENT
END:VCALENDAR
