BEGIN:VCALENDAR
VERSION:2.0
METHOD:PUBLISH
X-WR-CALNAME;VALUE=TEXT:Agenda #5804
PRODID:-//Drupal iCal API//EN
BEGIN:VEVENT
SUMMARY: Jeudi 15 juin : Information collective au Pôle Emploi de Sucy-en-Brie
DTSTART: 20230615T070000
DTEND: 20230615T090000
DESCRIPTION: L'AFT Ile-de-France interviendra le jeudi 15 juin&nbsp;au Pôle Emploi de Sucy-en-Brie dans le cadre d'une information collective portant sur les métiers du transport et de la logistique.
END:VEVENT
END:VCALENDAR
