BEGIN:VCALENDAR
VERSION:2.0
METHOD:PUBLISH
X-WR-CALNAME;VALUE=TEXT:Agenda #5805
PRODID:-//Drupal iCal API//EN
BEGIN:VEVENT
SUMMARY: Jeudi 15 Juin : Découverte des métiers dans le transport et la logistique à la Mission Locale de Villiers-sur-Marne
DTSTART: 20230615T130000
DTEND: 20230615T150000
DESCRIPTION: Le jeudi 15 juin, la Délégation AFT Ile-de-France interviendra à la Mission Locale de Villiers sur Marne pour présenter les métiers et les formations dans le secteur du transport et de la logistique.
END:VEVENT
END:VCALENDAR
