BEGIN:VCALENDAR
VERSION:2.0
METHOD:PUBLISH
X-WR-CALNAME;VALUE=TEXT:Agenda #5808
PRODID:-//Drupal iCal API//EN
BEGIN:VEVENT
SUMMARY: Jeudi 29 Juin : Matinale du Déménagement
DTSTART: 20230629T073000
DTEND: 20230629T103000
DESCRIPTION: Le jeudi 29 novembre, l'AFT Île-de-France - TRANSPORT &amp; LOGISTIQUE, le centre&nbsp;AFTRAL&nbsp;de Chevilly-Larue et la&nbsp;Chambre Syndicale du Déménagement&nbsp;se mobilisent pour&nbsp;présenter les métiers,&nbsp;les formations et les nombreuses opportunités&nbsp;du secteur du déménagement.&nbsp;

&nbsp;
END:VEVENT
END:VCALENDAR
