BEGIN:VCALENDAR
VERSION:2.0
METHOD:PUBLISH
X-WR-CALNAME;VALUE=TEXT:Agenda #581
PRODID:-//Drupal iCal API//EN
BEGIN:VEVENT
SUMMARY: 8ème édition des salons "Travail avenir formation"
DTSTART: 20170304T080000
DTEND: 20170326T170000
DESCRIPTION: Campagne de promotion des métiers et de la formation 2015 en Languedoc-Roussillon
END:VEVENT
BEGIN:VEVENT
SUMMARY: 8ème édition des salons "Travail avenir formation"
DTSTART: 20170304T080000
DTEND: 20170326T170000
DESCRIPTION: Campagne de promotion des métiers et de la formation 2015 en Languedoc-Roussillon
END:VEVENT
BEGIN:VEVENT
SUMMARY: 8ème édition des salons "Travail avenir formation"
DTSTART: 20170304T080000
DTEND: 20170326T170000
DESCRIPTION: Campagne de promotion des métiers et de la formation 2015 en Languedoc-Roussillon
END:VEVENT
BEGIN:VEVENT
SUMMARY: 8ème édition des salons "Travail avenir formation"
DTSTART: 20170304T080000
DTEND: 20170326T170000
DESCRIPTION: Campagne de promotion des métiers et de la formation 2015 en Languedoc-Roussillon
END:VEVENT
END:VCALENDAR
