BEGIN:VCALENDAR
VERSION:2.0
METHOD:PUBLISH
X-WR-CALNAME;VALUE=TEXT:Agenda #5812
PRODID:-//Drupal iCal API//EN
BEGIN:VEVENT
SUMMARY: Vendredi 23 juin : Les Olympiades de l'Emploi avec Yookan
DTSTART: 20230623T080000
DTEND: 20230623T160000
DESCRIPTION: Venez découvrir les métiers du transport et de la logistique avec la Délégation AFT Ile-de -France et les nombreuses opportunités d'emploi autour des métiers du sport !
END:VEVENT
END:VCALENDAR
