BEGIN:VCALENDAR
VERSION:2.0
METHOD:PUBLISH
X-WR-CALNAME;VALUE=TEXT:Agenda #5814
PRODID:-//Drupal iCal API//EN
BEGIN:VEVENT
SUMMARY: Mardi 27 Juin: Découverte des métiers du transport et de la logistique à l'E2C de Ris-Orangis
DTSTART: 20230627T070000
DTEND: 20230627T090000
DESCRIPTION: Dans le cadre de la découverte des métiers du transport et de la logistique, la Délégation AFT Ile-de-France interviendra le mardi 27 juin auprès des jeunes de&nbsp;l'Ecole de la 2ième Chance de Ris-Orangis.
END:VEVENT
END:VCALENDAR
