BEGIN:VCALENDAR
VERSION:2.0
METHOD:PUBLISH
X-WR-CALNAME;VALUE=TEXT:Agenda #582
PRODID:-//Drupal iCal API//EN
BEGIN:VEVENT
SUMMARY: Information collective sur le Transport-Logistique à Pôle Emploi Toulouse – La Cépière
DTSTART: 20230407T070000
DTEND: 20230407T100000
DESCRIPTION: Venez découvrir les métiers du transport et de la logistique Vendredi 7 avril prochain&nbsp;à 9 heures à&nbsp;l'Agence Pôle Emploi Toulouse la Cépière

Attention :&nbsp;&nbsp;Inscription obligatoire auprès de votre conseiller Pôle Emploi&nbsp;
END:VEVENT
END:VCALENDAR
