BEGIN:VCALENDAR
VERSION:2.0
METHOD:PUBLISH
X-WR-CALNAME;VALUE=TEXT:Agenda #5822
PRODID:-//Drupal iCal API//EN
BEGIN:VEVENT
SUMMARY: Languedoc Roussillon : Remise des trophées "Ambassadeurs de l'emploi du Transport et de la Logistique
DTSTART: 20230704T133000
DTEND: 20230704T133000
DESCRIPTION: L'AFT Transport &amp; Logistique de Montpellier&nbsp;remettra Mardi 4 juillet&nbsp;prochain à 15h30 dans ses&nbsp;locaux, les chartes d'engagement et les trophées des "ambassadeurs de l'emploi du transport et de la logistique" aux entreprises suivantes :&nbsp;

STEF TRANSPORT MONTPELLIER (34)

STEF TRANSPORT NARBONNE (11)

BERTO LANGUEDOC ROUSSILLON (34)

CARS FORT (30)

KEOLIS/COURRIERS DU MIDI (34)

NATIONAL&nbsp;CALSAT (34)

&nbsp;

&nbsp;
END:VEVENT
BEGIN:VEVENT
SUMMARY: Languedoc Roussillon : Remise des trophées "Ambassadeurs de l'emploi du Transport et de la Logistique
DTSTART: 20230704T133000
DTEND: 20230704T133000
DESCRIPTION: L'AFT Transport &amp; Logistique de Montpellier&nbsp;remettra Mardi 4 juillet&nbsp;prochain à 15h30 dans ses&nbsp;locaux, les chartes d'engagement et les trophées des "ambassadeurs de l'emploi du transport et de la logistique" aux entreprises suivantes :&nbsp;

STEF TRANSPORT MONTPELLIER (34)

STEF TRANSPORT NARBONNE (11)

BERTO LANGUEDOC ROUSSILLON (34)

CARS FORT (30)

KEOLIS/COURRIERS DU MIDI (34)

NATIONAL&nbsp;CALSAT (34)

&nbsp;

&nbsp;
END:VEVENT
END:VCALENDAR
