BEGIN:VCALENDAR
VERSION:2.0
METHOD:PUBLISH
X-WR-CALNAME;VALUE=TEXT:Agenda #5824
PRODID:-//Drupal iCal API//EN
BEGIN:VEVENT
SUMMARY: SAUVE (30) : Présentation du métier de Conducteur Voyageurs
DTSTART: 20230704T073000
DTEND: 20230704T073000
DESCRIPTION: Une présentation, par l'AFT Occitanie et la COOP VOYAGEURS,&nbsp; du métier de conducteur voyageurs aura lieu à l'espace culturel de Sauve (30)&nbsp; le Mardi 4 juillet&nbsp;de 9h30 à 11h30.

&nbsp;

Inscription obligatoire auprès de son conseiller Pôle Emploi&nbsp;
END:VEVENT
BEGIN:VEVENT
SUMMARY: SAUVE (30) : Présentation du métier de Conducteur Voyageurs
DTSTART: 20230704T073000
DTEND: 20230704T073000
DESCRIPTION: Une présentation, par l'AFT Occitanie et la COOP VOYAGEURS,&nbsp; du métier de conducteur voyageurs aura lieu à l'espace culturel de Sauve (30)&nbsp; le Mardi 4 juillet&nbsp;de 9h30 à 11h30.

&nbsp;

Inscription obligatoire auprès de son conseiller Pôle Emploi&nbsp;
END:VEVENT
BEGIN:VEVENT
SUMMARY: SAUVE (30) : Présentation du métier de Conducteur Voyageurs
DTSTART: 20230704T073000
DTEND: 20230704T073000
DESCRIPTION: Une présentation, par l'AFT Occitanie et la COOP VOYAGEURS,&nbsp; du métier de conducteur voyageurs aura lieu à l'espace culturel de Sauve (30)&nbsp; le Mardi 4 juillet&nbsp;de 9h30 à 11h30.

&nbsp;

Inscription obligatoire auprès de son conseiller Pôle Emploi&nbsp;
END:VEVENT
END:VCALENDAR
