BEGIN:VCALENDAR
VERSION:2.0
METHOD:PUBLISH
X-WR-CALNAME;VALUE=TEXT:Agenda #5825
PRODID:-//Drupal iCal API//EN
BEGIN:VEVENT
SUMMARY: Ales (30) : Présentation du métier de Conducteur Voyageurs
DTSTART: 20230706T080000
DTEND: 20230706T080000
DESCRIPTION: Une présentation du métier de conducteur voyageurs par l'AFT Occitanie et la COOP VOYAGEURS&nbsp;aura lieu à la Mission locale d'Ales jeudi 6 juillet de 10h à 12h.

Inscription obligatoire auprès de son conseiller Mission locale
END:VEVENT
BEGIN:VEVENT
SUMMARY: Ales (30) : Présentation du métier de Conducteur Voyageurs
DTSTART: 20230706T080000
DTEND: 20230706T080000
DESCRIPTION: Une présentation du métier de conducteur voyageurs par l'AFT Occitanie et la COOP VOYAGEURS&nbsp;aura lieu à la Mission locale d'Ales jeudi 6 juillet de 10h à 12h.

Inscription obligatoire auprès de son conseiller Mission locale
END:VEVENT
BEGIN:VEVENT
SUMMARY: Ales (30) : Présentation du métier de Conducteur Voyageurs
DTSTART: 20230706T080000
DTEND: 20230706T080000
DESCRIPTION: Une présentation du métier de conducteur voyageurs par l'AFT Occitanie et la COOP VOYAGEURS&nbsp;aura lieu à la Mission locale d'Ales jeudi 6 juillet de 10h à 12h.

Inscription obligatoire auprès de son conseiller Mission locale
END:VEVENT
END:VCALENDAR
