BEGIN:VCALENDAR
VERSION:2.0
METHOD:PUBLISH
X-WR-CALNAME;VALUE=TEXT:Agenda #5831
PRODID:-//Drupal iCal API//EN
BEGIN:VEVENT
SUMMARY: Focus métiers 5 septembre 2023 : Information métiers de la conduite Bretagne
DTSTART: 20230905T080000
DTEND: 20230905T093000
DESCRIPTION: Venez participer à une réunion en visio sur les métiers de la conduite !


	Transports de marchandises, voyageurs et sanitaire


Gratuit et ouvert à tous publics ...&nbsp;



&nbsp;
END:VEVENT
BEGIN:VEVENT
SUMMARY: Focus métiers 5 septembre 2023 : Information métiers de la conduite Bretagne
DTSTART: 20230905T080000
DTEND: 20230905T093000
DESCRIPTION: Venez participer à une réunion en visio sur les métiers de la conduite !


	Transports de marchandises, voyageurs et sanitaire


Gratuit et ouvert à tous publics ...&nbsp;



&nbsp;
END:VEVENT
END:VCALENDAR
