BEGIN:VCALENDAR
VERSION:2.0
METHOD:PUBLISH
X-WR-CALNAME;VALUE=TEXT:Agenda #5833
PRODID:-//Drupal iCal API//EN
BEGIN:VEVENT
SUMMARY: Focus métiers 25 octobre 2023 : Information métiers de la conduite Bretagne
DTSTART: 20231025T120000
DTEND: 20231025T133000
DESCRIPTION: Venez participer à une réunion en visio sur les métiers de la conduite !


	Transports de marchandises, voyageurs et sanitaire


Gratuit et ouvert à tous publics ...&nbsp;
END:VEVENT
BEGIN:VEVENT
SUMMARY: Focus métiers 25 octobre 2023 : Information métiers de la conduite Bretagne
DTSTART: 20231025T120000
DTEND: 20231025T133000
DESCRIPTION: Venez participer à une réunion en visio sur les métiers de la conduite !


	Transports de marchandises, voyageurs et sanitaire


Gratuit et ouvert à tous publics ...&nbsp;
END:VEVENT
END:VCALENDAR
