BEGIN:VCALENDAR
VERSION:2.0
METHOD:PUBLISH
X-WR-CALNAME;VALUE=TEXT:Agenda #5835
PRODID:-//Drupal iCal API//EN
BEGIN:VEVENT
SUMMARY: Mercredi 5 Juillet : Forum Emploi-Formation au centre commercial de Villabé
DTSTART: 20230705T090000
DTEND: 20230705T160000
DESCRIPTION: La délégation AFT Ile-de-France sera présente au forum Emploi-Formation organisé le mercredi 05 Juillet par la MDEF Grand Paris Sud afin de présenter les métiers et les nombreuses opportunités du secteur du transport et de la logistique.

&nbsp;
END:VEVENT
END:VCALENDAR
